BEGIN:VCALENDAR
VERSION:2.0
PRODID:-//Portal Rolnika | Towarzystwo Ubezpieczeń Wzajemnych &quot;TUW&quot; - ECPv6.15.20//NONSGML v1.0//EN
CALSCALE:GREGORIAN
METHOD:PUBLISH
X-WR-CALNAME:Portal Rolnika | Towarzystwo Ubezpieczeń Wzajemnych &quot;TUW&quot;
X-ORIGINAL-URL:https://portal-rolnika.pl
X-WR-CALDESC:Wydarzenia dla Portal Rolnika | Towarzystwo Ubezpieczeń Wzajemnych &quot;TUW&quot;
REFRESH-INTERVAL;VALUE=DURATION:PT1H
X-Robots-Tag:noindex
X-PUBLISHED-TTL:PT1H
BEGIN:VTIMEZONE
TZID:Europe/Warsaw
BEGIN:DAYLIGHT
TZOFFSETFROM:+0100
TZOFFSETTO:+0200
TZNAME:CEST
DTSTART:20240331T010000
END:DAYLIGHT
BEGIN:STANDARD
TZOFFSETFROM:+0200
TZOFFSETTO:+0100
TZNAME:CET
DTSTART:20241027T010000
END:STANDARD
BEGIN:DAYLIGHT
TZOFFSETFROM:+0100
TZOFFSETTO:+0200
TZNAME:CEST
DTSTART:20250330T010000
END:DAYLIGHT
BEGIN:STANDARD
TZOFFSETFROM:+0200
TZOFFSETTO:+0100
TZNAME:CET
DTSTART:20251026T010000
END:STANDARD
BEGIN:DAYLIGHT
TZOFFSETFROM:+0100
TZOFFSETTO:+0200
TZNAME:CEST
DTSTART:20260329T010000
END:DAYLIGHT
BEGIN:STANDARD
TZOFFSETFROM:+0200
TZOFFSETTO:+0100
TZNAME:CET
DTSTART:20261025T010000
END:STANDARD
END:VTIMEZONE
BEGIN:VEVENT
DTSTART;VALUE=DATE:20250912
DTEND;VALUE=DATE:20250915
DTSTAMP:20260423T135412
CREATED:20250110T130040Z
LAST-MODIFIED:20250304T105116Z
UID:10000140-1757635200-1757894399@portal-rolnika.pl
SUMMARY:XXXVII Barzkowickie Targi Rolne AGRO POMERANIA 2025
DESCRIPTION:Miejsce: Barzkowice\, Zachodniopomorski Ośrodek Doradztwa Rolniczego \nXXXVII Barzkowickie Targi Rolne AGRO POMERANIA odbędą się w dniach 12-14 września 2025 r. To jedno z największych wydarzeń rolniczych w regionie\, organizowane przez Zachodniopomorski Ośrodek Doradztwa Rolniczego w Barzkowicach. Targi prezentują nowoczesne technologie rolnicze\, maszyny\, sprzęt oraz innowacyjne rozwiązania dla rolnictwa. Więcej informacji znajdziesz na oficjalnej stronie:ZODR Targi Rolne \nGodziny otwarcia\, bilety oraz dodatkowe informacje dostępne są na stronie:ZODR Targi Rolne
URL:https://portal-rolnika.pl/event/xxxvii-barzkowickie-targi-rolne-agro-pomerania-2025/
LOCATION:Barzkowice
ATTACH;FMTTYPE=image/jpeg:https://portal-rolnika.pl/wp-content/uploads/2025/03/Barzkowice.jpg
END:VEVENT
END:VCALENDAR